






BEGIN:VCALENDAR
VERSION:2.0
PRODID:-//Cultuurbarbaren 2025 - ECPv6.15.20//NONSGML v1.0//EN
CALSCALE:GREGORIAN
METHOD:PUBLISH
X-WR-CALNAME:Cultuurbarbaren 2025
X-ORIGINAL-URL:https://cultuurbarbaren.com
X-WR-CALDESC:Evenementen voor Cultuurbarbaren 2025
REFRESH-INTERVAL;VALUE=DURATION:PT1H
X-Robots-Tag:noindex
X-PUBLISHED-TTL:PT1H
BEGIN:VTIMEZONE
TZID:Europe/Amsterdam
BEGIN:DAYLIGHT
TZOFFSETFROM:+0100
TZOFFSETTO:+0200
TZNAME:CEST
DTSTART:20240331T010000
END:DAYLIGHT
BEGIN:STANDARD
TZOFFSETFROM:+0200
TZOFFSETTO:+0100
TZNAME:CET
DTSTART:20241027T010000
END:STANDARD
BEGIN:DAYLIGHT
TZOFFSETFROM:+0100
TZOFFSETTO:+0200
TZNAME:CEST
DTSTART:20250330T010000
END:DAYLIGHT
BEGIN:STANDARD
TZOFFSETFROM:+0200
TZOFFSETTO:+0100
TZNAME:CET
DTSTART:20251026T010000
END:STANDARD
BEGIN:DAYLIGHT
TZOFFSETFROM:+0100
TZOFFSETTO:+0200
TZNAME:CEST
DTSTART:20260329T010000
END:DAYLIGHT
BEGIN:STANDARD
TZOFFSETFROM:+0200
TZOFFSETTO:+0100
TZNAME:CET
DTSTART:20261025T010000
END:STANDARD
END:VTIMEZONE
BEGIN:VEVENT
DTSTART;TZID=Europe/Amsterdam:20251022T150000
DTEND;TZID=Europe/Amsterdam:20251022T160000
DTSTAMP:20260425T221142
CREATED:20250904T232221Z
LAST-MODIFIED:20250927T094720Z
UID:10000145-1761145200-1761148800@cultuurbarbaren.com
SUMMARY:Bananengeschil
DESCRIPTION:Vroeger was alles zwart-wit of wit-zwart. Echt waar! Kijk maar eens naar oude films en foto’s. Totdat op een zekere dag de koning en koningin een geheimzinnig pakketje ontvangen met daarin alle kleuren die je maar kunt wensen. Ze besluiten samen de wereld in te kleuren. Te beginnen bij hun lievelingsfruit: de Banaan! \nDe koning wil de banaan groen. De koningin geel. Het duurt niet lang of er is ruzie en iedereen in het rijk zal en moet kleur bekennen: geel of groen! De meest wijze mensen mogen hun zegje doen en zelfs het volk doet een duit in het zakje. Maar niemand heeft hét antwoord.  \nDe koning en koningin beginnen hun geduld te verliezen. De goede vrede is in gevaar en de tijd dringt. Iedereen is in de ban van het bananengeschil. De oplossing lijkt verder weg dan ooit. Maar dan\, net op het nippertje pleegt Irene samen met het publiek een coup banaan!  \nBananengeschil laat op kleurrijke en humoristische wijze zien dat meningsverschillen tot iets moois kunnen leiden! \n\nDe voorstelling Graven is van Laros & de Jong Beeldmakerij.\nHeb je een Delft-/Rotterdampas? Kies dan voor een ticket met korting. Aan de deur wordt de pas gecontroleerd.\nKinderen moeten begeleid worden door minstens 1 ouder/volwassene. Volwassenen moeten een eigen ticket kopen. \nJe vindt HAL015 in het Kabeldistrict aan de Schieweg 15B. 
URL:https://cultuurbarbaren.com/ticket/bananengeschil/
LOCATION:Hal015\, Schieweg 15-B\, Delft\, 2627 AN
CATEGORIES:22 oktober 2025,Leeftijd 04-6 jaar,Leeftijd 06-8 jaar,Leeftijd 08-10 jaar
ATTACH;FMTTYPE=image/jpeg:https://cultuurbarbaren.com/2025/wp-content/uploads/2025/09/Bananengeschil-OPT.jpg
END:VEVENT
END:VCALENDAR