






BEGIN:VCALENDAR
VERSION:2.0
PRODID:-//Cultuurbarbaren 2025 - ECPv6.15.20//NONSGML v1.0//EN
CALSCALE:GREGORIAN
METHOD:PUBLISH
X-ORIGINAL-URL:https://cultuurbarbaren.com
X-WR-CALDESC:Evenementen voor Cultuurbarbaren 2025
REFRESH-INTERVAL;VALUE=DURATION:PT1H
X-Robots-Tag:noindex
X-PUBLISHED-TTL:PT1H
BEGIN:VTIMEZONE
TZID:Europe/Amsterdam
BEGIN:DAYLIGHT
TZOFFSETFROM:+0100
TZOFFSETTO:+0200
TZNAME:CEST
DTSTART:20240331T010000
END:DAYLIGHT
BEGIN:STANDARD
TZOFFSETFROM:+0200
TZOFFSETTO:+0100
TZNAME:CET
DTSTART:20241027T010000
END:STANDARD
BEGIN:DAYLIGHT
TZOFFSETFROM:+0100
TZOFFSETTO:+0200
TZNAME:CEST
DTSTART:20250330T010000
END:DAYLIGHT
BEGIN:STANDARD
TZOFFSETFROM:+0200
TZOFFSETTO:+0100
TZNAME:CET
DTSTART:20251026T010000
END:STANDARD
BEGIN:DAYLIGHT
TZOFFSETFROM:+0100
TZOFFSETTO:+0200
TZNAME:CEST
DTSTART:20260329T010000
END:DAYLIGHT
BEGIN:STANDARD
TZOFFSETFROM:+0200
TZOFFSETTO:+0100
TZNAME:CET
DTSTART:20261025T010000
END:STANDARD
END:VTIMEZONE
BEGIN:VEVENT
DTSTART;TZID=Europe/Amsterdam:20251024T100000
DTEND;TZID=Europe/Amsterdam:20251024T120000
DTSTAMP:20260425T204313
CREATED:20250904T155047Z
LAST-MODIFIED:20250909T104212Z
UID:10000089-1761300000-1761307200@cultuurbarbaren.com
SUMMARY:Masseer een volwassene
DESCRIPTION:Neem jouw vader\, moeder\, opa\, oma of een andere volwassene mee en verken onbekend terrein door ze te masseren! Beweeg je handen als paardenklopjes\, kneed spieren als deeg en maak spinnenpoten over iemands rug.  Je krijgt ook een blad mee naar huis met alle massagegrepen zodat je kan blijven oefenen. Of misschien mag iemand anders jou wel masseren met meegenomen uitleg.  Deze workshop wordt gegeven door Rianne Collignon van Flow of Miracles.Je koopt een duo-ticket voor een kind én volwassene zodat je als tweetal de workshop volgt. Tip voor de volwassene: draag een loszittend t-shirt voor deze heerlijke workshop. We gebruiken geen olie.  
URL:https://cultuurbarbaren.com/ticket/masseer-een-volwassene-2/
LOCATION:Bacinol 2\, Hooikade 13\, Delft\, 2627 AB
CATEGORIES:24 oktober 2025,Leeftijd 08-10 jaar,Leeftijd 10-12 jaar
ATTACH;FMTTYPE=image/jpeg:https://cultuurbarbaren.com/2025/wp-content/uploads/2025/09/Flow-of-Miracle-Masseer-een-volwassene-OPT.jpg
GEO:52.0046033;4.3598929
X-APPLE-STRUCTURED-LOCATION;VALUE=URI;X-ADDRESS=Bacinol 2 Hooikade 13 Delft 2627 AB;X-APPLE-RADIUS=500;X-TITLE=Hooikade 13:geo:4.3598929,52.0046033
END:VEVENT
BEGIN:VEVENT
DTSTART;TZID=Europe/Amsterdam:20251022T140000
DTEND;TZID=Europe/Amsterdam:20251022T160000
DTSTAMP:20260425T204314
CREATED:20250904T155442Z
LAST-MODIFIED:20250909T104206Z
UID:10000090-1761141600-1761148800@cultuurbarbaren.com
SUMMARY:Masseer een volwassene
DESCRIPTION:Neem jouw vader\, moeder\, opa\, oma of een andere volwassene mee en verken onbekend terrein door ze te masseren! Beweeg je handen als paardenklopjes\, kneed spieren als deeg en maak spinnenpoten over iemands rug.  Je krijgt ook een blad mee naar huis met alle massagegrepen zodat je kan blijven oefenen. Of misschien mag iemand anders jou wel masseren met meegenomen uitleg.  Deze workshop wordt gegeven door Rianne Collignon van Flow of Miracles.Je koopt een duo-ticket voor een kind én volwassene zodat je als tweetal de workshop volgt. Tip voor de volwassene: draag een loszittend t-shirt voor deze heerlijke workshop. We gebruiken geen olie.  
URL:https://cultuurbarbaren.com/ticket/masseer-een-volwassene-3/
LOCATION:Bacinol 2\, Hooikade 13\, Delft\, 2627 AB
CATEGORIES:22 oktober 2025,Leeftijd 08-10 jaar,Leeftijd 10-12 jaar
ATTACH;FMTTYPE=image/jpeg:https://cultuurbarbaren.com/2025/wp-content/uploads/2025/09/Flow-of-Miracle-Masseer-een-volwassene-OPT.jpg
GEO:52.0046033;4.3598929
X-APPLE-STRUCTURED-LOCATION;VALUE=URI;X-ADDRESS=Bacinol 2 Hooikade 13 Delft 2627 AB;X-APPLE-RADIUS=500;X-TITLE=Hooikade 13:geo:4.3598929,52.0046033
END:VEVENT
BEGIN:VEVENT
DTSTART;TZID=Europe/Amsterdam:20251022T100000
DTEND;TZID=Europe/Amsterdam:20251022T120000
DTSTAMP:20260425T204314
CREATED:20250904T154011Z
LAST-MODIFIED:20250909T104218Z
UID:10000088-1761127200-1761134400@cultuurbarbaren.com
SUMMARY:Masseer een volwassene
DESCRIPTION:Neem jouw vader\, moeder\, opa\, oma of een andere volwassene mee en verken onbekend terrein door ze te masseren! Beweeg je handen als paardenklopjes\, kneed spieren als deeg en maak spinnenpoten over iemands rug.  Je krijgt ook een blad mee naar huis met alle massagegrepen zodat je kan blijven oefenen. Of misschien mag iemand anders jou wel masseren met meegenomen uitleg.  Deze workshop wordt gegeven door Rianne Collignon van Flow of Miracles.Je koopt een duo-ticket voor een kind én volwassene zodat je als tweetal de workshop volgt. Tip voor de volwassene: draag een loszittend t-shirt voor deze heerlijke workshop. We gebruiken geen olie.  
URL:https://cultuurbarbaren.com/ticket/masseer-een-volwassene/
LOCATION:Bacinol 2\, Hooikade 13\, Delft\, 2627 AB
CATEGORIES:22 oktober 2025,Leeftijd 08-10 jaar,Leeftijd 10-12 jaar
ATTACH;FMTTYPE=image/jpeg:https://cultuurbarbaren.com/2025/wp-content/uploads/2025/09/Flow-of-Miracle-Masseer-een-volwassene-OPT.jpg
GEO:52.0046033;4.3598929
X-APPLE-STRUCTURED-LOCATION;VALUE=URI;X-ADDRESS=Bacinol 2 Hooikade 13 Delft 2627 AB;X-APPLE-RADIUS=500;X-TITLE=Hooikade 13:geo:4.3598929,52.0046033
END:VEVENT
BEGIN:VEVENT
DTSTART;TZID=Europe/Amsterdam:20251021T140000
DTEND;TZID=Europe/Amsterdam:20251021T160000
DTSTAMP:20260425T204314
CREATED:20250904T150655Z
LAST-MODIFIED:20251017T182355Z
UID:10000086-1761055200-1761062400@cultuurbarbaren.com
SUMMARY:Leven onder de zeespiegel
DESCRIPTION:Het water stijgt\, de wereld verandert… en jij bepaalt hoe we straks onder water gaan leven! Bedenk en ontwerp je eigen underwater world: huizen op de zeebodem\, duikboten\, winkels of chillplekken diep onder de golven. In drie kunstenaarsateliers in Bacinol 2 werk je met echte kunstenaars aan jouw toekomstvisie. Je gaat lino’s snijden\, tekenen\, schilderen\, vouwen en knippen. Zo maak je je eigen kunstwerk over hoe het leven onder water eruit kan zien. Wat ga je doen?  Linosneden bij kunstenaar Mariska MalleeKatoenen tassen maken bij kunstenaar Annemiek van de PolsSchilderen / sjabloondrukken bij kunstenaar Rob van Es Aan het einde neem je natuurlijk je eigen onderwater-kunstwerk mee naar huis.
URL:https://cultuurbarbaren.com/ticket/leven-onder-de-zeespiegel/
LOCATION:Bacinol 2\, Hooikade 13\, Delft\, 2627 AB
CATEGORIES:21 oktober 2025,Leeftijd 10-12 jaar,Leeftijd 12-14 jaar
ATTACH;FMTTYPE=image/jpeg:https://cultuurbarbaren.com/2025/wp-content/uploads/2025/09/estherdecuijper-fotografie-cultuurbarbaren-bacinol-kleien-9_1140-OPT.jpg
GEO:52.0046033;4.3598929
X-APPLE-STRUCTURED-LOCATION;VALUE=URI;X-ADDRESS=Bacinol 2 Hooikade 13 Delft 2627 AB;X-APPLE-RADIUS=500;X-TITLE=Hooikade 13:geo:4.3598929,52.0046033
END:VEVENT
END:VCALENDAR